BEGIN:VCALENDAR
VERSION:2.0
PRODID:-//Handboog Vereniging Beatrix - ECPv6.15.20//NONSGML v1.0//EN
CALSCALE:GREGORIAN
METHOD:PUBLISH
X-WR-CALNAME:Handboog Vereniging Beatrix
X-ORIGINAL-URL:https://www.hbv-beatrix.nl
X-WR-CALDESC:Evenementen voor Handboog Vereniging Beatrix
REFRESH-INTERVAL;VALUE=DURATION:PT1H
X-Robots-Tag:noindex
X-PUBLISHED-TTL:PT1H
BEGIN:VTIMEZONE
TZID:Europe/Amsterdam
BEGIN:DAYLIGHT
TZOFFSETFROM:+0100
TZOFFSETTO:+0200
TZNAME:CEST
DTSTART:20230326T010000
END:DAYLIGHT
BEGIN:STANDARD
TZOFFSETFROM:+0200
TZOFFSETTO:+0100
TZNAME:CET
DTSTART:20231029T010000
END:STANDARD
BEGIN:DAYLIGHT
TZOFFSETFROM:+0100
TZOFFSETTO:+0200
TZNAME:CEST
DTSTART:20240331T010000
END:DAYLIGHT
BEGIN:STANDARD
TZOFFSETFROM:+0200
TZOFFSETTO:+0100
TZNAME:CET
DTSTART:20241027T010000
END:STANDARD
BEGIN:DAYLIGHT
TZOFFSETFROM:+0100
TZOFFSETTO:+0200
TZNAME:CEST
DTSTART:20250330T010000
END:DAYLIGHT
BEGIN:STANDARD
TZOFFSETFROM:+0200
TZOFFSETTO:+0100
TZNAME:CET
DTSTART:20251026T010000
END:STANDARD
END:VTIMEZONE
BEGIN:VEVENT
DTSTART;TZID=Europe/Amsterdam:20240721T080000
DTEND;TZID=Europe/Amsterdam:20240721T170000
DTSTAMP:20260420T151020
CREATED:20240429T200356Z
LAST-MODIFIED:20240429T200356Z
UID:1541-1721548800-1721581200@www.hbv-beatrix.nl
SUMMARY:900 ronde
DESCRIPTION:
URL:https://www.hbv-beatrix.nl/event/900-ronde/
LOCATION:Archeryfarm\, van Dijcklaan 6\, Baarschot
CATEGORIES:Barebowe Individueel,compound individueel,longbow individueel,Recurve individueel,Wedstrijden
ORGANIZER;CN="Archeryfarm":MAILTO:berny.camps.bc@gmail.com
END:VEVENT
END:VCALENDAR